BEGIN:VCALENDAR
VERSION:2.0
PRODID:-//wp-events-plugin.com//7.2.3.1//EN
TZID:America/Chicago
X-WR-TIMEZONE:America/Chicago
BEGIN:VEVENT
UID:17@workinginconcert.org
DTSTART;TZID=America/Chicago:20190712T180000
DTEND;TZID=America/Chicago:20190712T210000
DTSTAMP:20200730T165736Z
URL:https://workinginconcert.org/events/a-cabaret-paree-bastille-celebrati
 on/
SUMMARY:A Cabaret-Paree Bastille Celebration
DESCRIPTION:The Americans to Paris Roadshow: Chicagoland concerts summer 20
 19\nWe’re kicking up our heels with a dinner show at Marchesa. PATRICIA 
 SPAETH’s accordion greet yous and JIM COX’s bass amplifies the energy.
  Best of all\, CLAUDIA HOMMEL’s songs and CHEF DIDIER’s four-course di
 nner set all your senses alive with pleasure. Special Guest appearances by
  BARBARA SMITH and CHRISTINE STEYER
ATTACH;FMTTYPE=image/jpeg:https://workinginconcert.org/wp-content/uploads/
 2020/07/bastilleFacebook.jpg
CATEGORIES:Cabaret Connexion,Claudia's Cabaret-Paree
END:VEVENT
BEGIN:VTIMEZONE
TZID:America/Chicago
X-LIC-LOCATION:America/Chicago
BEGIN:DAYLIGHT
DTSTART:20190310T030000
TZOFFSETFROM:-0600
TZOFFSETTO:-0500
TZNAME:CDT
END:DAYLIGHT
END:VTIMEZONE
END:VCALENDAR