BEGIN:VCALENDAR
VERSION:2.0
PRODID:-//wp-events-plugin.com//7.2.3.1//EN
TZID:America/Chicago
X-WR-TIMEZONE:America/Chicago
BEGIN:VEVENT
UID:253@workinginconcert.org
DTSTART;TZID=America/Chicago:20250928T160000
DTEND;TZID=America/Chicago:20250928T160000
DTSTAMP:20250915T200107Z
URL:https://workinginconcert.org/events/barbara-smith-friends-present-off-
 to-paris/
SUMMARY:Barbara Smith &amp\; Friends present "Off to Paris"
DESCRIPTION:\nBarb Smith and Friends give us a preview of the program we wi
 ll be taking to Paris later this year! Featuring also Carolyn Broquet\, T
 irzah Joy\, Sonia Oyola\, David Hoffman\, Julia Hawkins\, LouElla Rose\, C
 laudia Hommel and music director Daniel Stetzel!\n\n\n\nSunday\, September
  28\, 4:00 pmGateway Lounge at the Copernicus Center\, 5216 West Lawrence 
 in Chicago\n\n\n\n(free parking lot\, quick by the Kennedy Xway)\n\n\n\n\n
ATTACH;FMTTYPE=image/jpeg:https://workinginconcert.org/wp-content/uploads/
 2025/08/barbofftoparis4-scaled.jpg
CATEGORIES:Working In Concert concerts
END:VEVENT
BEGIN:VTIMEZONE
TZID:America/Chicago
X-LIC-LOCATION:America/Chicago
BEGIN:DAYLIGHT
DTSTART:20250309T030000
TZOFFSETFROM:-0600
TZOFFSETTO:-0500
TZNAME:CDT
END:DAYLIGHT
END:VTIMEZONE
END:VCALENDAR