BEGIN:VCALENDAR
VERSION:2.0
PRODID:-//wp-events-plugin.com//7.2.3.1//EN
TZID:America/Chicago
X-WR-TIMEZONE:America/Chicago
BEGIN:VEVENT
UID:287@workinginconcert.org
DTSTART;TZID=America/Chicago:20260617T190000
DTEND;TZID=America/Chicago:20260902T220000
DTSTAMP:20260421T211042Z
URL:https://workinginconcert.org/events/ccabrasstracksjazz/
SUMMARY:Chicago Cabaret Artists with The Brass Tracks Jazz Orchestra
DESCRIPTION:\nFirst show starts at 7pm and the second at 8:30pm \n\n\n\nJun
 e 17th - The Marvelous Anne Burnell \n\n\n\nJune 24th - Nothing But Troubl
 e Kathy Hahn \n\n\n\nJuly 1st - Direct from LA the fabulous Suzanna Griffi
 th \n\n\n\nJuly 15th - The Incomparable Susan Dennis \n\n\n\nAugust 5th - 
 The Spectacular Jazzlady Robin Watson \n\n\n\nAugust 12th - The Elegant an
 d Sublime Ava Logan\n\n\n\nAugust 26th - The Thrillin' Swingin' Sisters\n\
 n\n\nSeptember 2nd - The Amazing Patricia Mosley  \n\n\n\nCall 708-468-818
 1 to reserve \n\n\n\nhttp://northandmaple.com \n\n\n\n\n
ATTACH;FMTTYPE=image/jpeg:https://workinginconcert.org/wp-content/uploads/
 2020/07/cropped-WorCon-Colloboration-logoTransparent.png
CATEGORIES:Associate artist of Black Voices in Cabaret,Associated
 Artist,Cabaret Connexion,Working In Concert concerts
LOCATION:North & Maple Kitchen\, 18401 N. Creek Drive\, Tinley Park\, Illin
 ois\, 60477\, United States
X-APPLE-STRUCTURED-LOCATION;VALUE=URI;X-ADDRESS=18401 N. Creek Drive\, Tinl
 ey Park\, Illinois\, 60477\, United States;X-APPLE-RADIUS=100;X-TITLE=Nort
 h & Maple Kitchen:geo:0,0
END:VEVENT
BEGIN:VTIMEZONE
TZID:America/Chicago
X-LIC-LOCATION:America/Chicago
BEGIN:DAYLIGHT
DTSTART:20260308T030000
TZOFFSETFROM:-0600
TZOFFSETTO:-0500
TZNAME:CDT
END:DAYLIGHT
END:VTIMEZONE
END:VCALENDAR