BEGIN:VCALENDAR
VERSION:2.0
PRODID:-//wp-events-plugin.com//7.2.3.1//EN
TZID:America/Chicago
X-WR-TIMEZONE:America/Chicago
BEGIN:VEVENT
UID:254@workinginconcert.org
DTSTART;TZID=America/Chicago:20251012T160000
DTEND;TZID=America/Chicago:20251012T160000
DTSTAMP:20251002T212130Z
URL:https://workinginconcert.org/events/chicago-sounds-off-to-paris/
SUMMARY:Chicago Sounds - Off to Paris
DESCRIPTION:\nSunday October 12\, 4:00pm\n\n\n\nGateway Lounge at Copernicu
 s Center5216 W. Lawrence AvenueChicago\, IL. 60630\, USA(773) 313-9147\n\n
 \n\n\n\n\n\nChicago singers head to Paris in an international exchange wit
 h over 30 performers! “Chicago Sounds – Off to Paris” is the second 
 of our preview concerts with direction by Anne Burnell and Howie Pfeifer a
 nd Mark Burnell at the piano.\n\n\n\nThe Parisians (and YOU) are in for a 
 panoply of musical genres that make Chicago sing! Blues\, jazz\, R&amp\;B\
 , classical\, musical theatre and burlesque.\n\n\n\nPerformers include Car
 olyn Broquet\, Anne Burnell\, director\, Valerie Chestnut\, Deborah Good\,
  Kathryn Hahn\, Claudia Hommel\, Elisabeth Howard\, Tirzah Joy\, Lauren La
 ssen\, Ava Logan\, Patricia Mosley\, I’m M$ B’Havin\, Sonia Oyola\, Ba
 rbara Smith\, The Swingin’ Sisters\, Suzie Telep\, Darryl Thomas\, Bever
 ly Tyree\, Patricia Tyson\, Robin Watson\, Mark Burnell\, piano\, Howie Pf
 eifer\, piano\n\n\n\nTickets $30\; VIP seating up front and center $40.\n\
 n\n\n\n\n\n\n\n
ATTACH;FMTTYPE=image/jpeg:https://workinginconcert.org/wp-content/uploads/
 2025/08/ChicagoSounds2025_Blue.jpg
CATEGORIES:Working In Concert concerts
END:VEVENT
BEGIN:VTIMEZONE
TZID:America/Chicago
X-LIC-LOCATION:America/Chicago
BEGIN:DAYLIGHT
DTSTART:20250309T030000
TZOFFSETFROM:-0600
TZOFFSETTO:-0500
TZNAME:CDT
END:DAYLIGHT
END:VTIMEZONE
END:VCALENDAR