BEGIN:VCALENDAR
VERSION:2.0
PRODID:-//wp-events-plugin.com//7.2.3.1//EN
TZID:America/Chicago
X-WR-TIMEZONE:America/Chicago
BEGIN:VEVENT
UID:10@workinginconcert.org
DTSTART;TZID=America/Chicago:20191201T130000
DTEND;TZID=America/Chicago:20191201T190000
DTSTAMP:20211222T020645Z
URL:https://workinginconcert.org/events/clotilde-rullauds-exploration-of-v
 ocal-resonances/
SUMMARY:Clotilde Rullaud's exploration of Vocal Resonances
DESCRIPTION:SUNDAY\, DECEMBER 1\, 1 PM to 7 PM \n\n&nbsp\;\n\nCABARET CONNE
 XION singers who met and worked with Clotilde Rullaud in Paris welcome her
  back to Chicago. Elizabeth Doyle\, "Anyone interested in using their own 
 body as an instrument will find Clotilde's workshop fascinating and essent
 ial." Barb Smith says\, "Fabulous!"
ATTACH;FMTTYPE=image/jpeg:https://workinginconcert.org/wp-content/uploads/
 2020/11/ClotildeResonance20190919_151-scaled.jpg
CATEGORIES:Cabaret Connexion
LOCATION:Hilary Feldman's Voice Studio\, 5338 W Lawrence Ave\, Chicago\, IL
 \, United States
X-APPLE-STRUCTURED-LOCATION;VALUE=URI;X-ADDRESS=5338 W Lawrence Ave\, Chica
 go\, IL\, United States;X-APPLE-RADIUS=100;X-TITLE=Hilary Feldman's Voice 
 Studio:geo:0,0
END:VEVENT
BEGIN:VTIMEZONE
TZID:America/Chicago
X-LIC-LOCATION:America/Chicago
BEGIN:STANDARD
DTSTART:20191103T010000
TZOFFSETFROM:-0500
TZOFFSETTO:-0600
TZNAME:CST
END:STANDARD
END:VTIMEZONE
END:VCALENDAR