BEGIN:VCALENDAR
VERSION:2.0
PRODID:-//wp-events-plugin.com//7.2.3.1//EN
TZID:America/Chicago
X-WR-TIMEZONE:America/Chicago
BEGIN:VEVENT
UID:249@workinginconcert.org
DTSTART;TZID=America/Chicago:20250803T160000
DTEND;TZID=America/Chicago:20250803T160000
DTSTAMP:20250728T214710Z
URL:https://workinginconcert.org/events/friends/
SUMMARY:You've Got a Friend
DESCRIPTION:\nWorking In Concert presents a Garden concert in Albany Park. 
 \n\n\n\nDedicated to the memory of our friend\, gardener\, singer\, pianis
 t Rabbi Andy Bossov. \n\n\n\n\nRESERVE NOW!\n\n\n\n\nIn this Friend-raiser
 \, we celebrate those special relationships with a cast of friends\, old a
 nd new: Carolyn Broquet\, Valerie Chestnut\, T. Patrick Davis\, Sheri Flan
 ders\, Ruth Fuerst\, Deborah Good\, Vicki Graff\, Beth Halevy\, Christian 
 Halvorsen\, Carrie Hedges\, Rae-Myra Hilliard\, Claudia Hommel\, Lauren La
 ssen\, Patricia Mosley\, Barbara Smith\, Sue Susman\, Michele Williams\, a
 nd Music Director Howie Pfeifer at the keys.\n\n\n\nYour admission (sugges
 ted in the range of $15 to$50) benefits Working In Concert's initiatives B
 lack Voices in Cabaret\, the Chicago Paris Cabaret Connexion\, the SongSho
 p scholarship fund and more.\n\n\n\n\n
ATTACH;FMTTYPE=image/jpeg:https://workinginconcert.org/wp-content/uploads/
 2025/05/youvegotafriend2.jpg
CATEGORIES:Associate artist of Black Voices in Cabaret,Associated
 Artist,SongShop,SongShop Related,Working In Concert concerts
END:VEVENT
BEGIN:VTIMEZONE
TZID:America/Chicago
X-LIC-LOCATION:America/Chicago
BEGIN:DAYLIGHT
DTSTART:20250309T030000
TZOFFSETFROM:-0600
TZOFFSETTO:-0500
TZNAME:CDT
END:DAYLIGHT
END:VTIMEZONE
END:VCALENDAR