BEGIN:VCALENDAR
VERSION:2.0
PRODID:-//wp-events-plugin.com//7.2.3.1//EN
TZID:America/Chicago
X-WR-TIMEZONE:America/Chicago
BEGIN:VEVENT
UID:83@workinginconcert.org
DTSTART;TZID=America/Chicago:20210314T143000
DTEND;TZID=America/Chicago:20210314T160000
DTSTAMP:20211013T051113Z
URL:https://workinginconcert.org/events/healing-through-song-part-1-i-know
 -where-ive-been/
SUMMARY:Healing through Song Part 1 - I Know Where I've Been
DESCRIPTION:&nbsp\;\n\n\n\nHealing through Song Part 1 - I Know Where I've 
 Been (Sunday\, March 14th)\n\nRooms open at 2:30 to meet and greet the art
 ists and each other.\n\nLivechat with with emcees David Stephens and Arlen
 e Armstrong and today’s cast from Chicago and beyond:\n\nPaula Dione Ing
 ram (Las Vegas)\, Madeline Morgan\, Dr. Ollie Watts Davis\, Ava Saunders\,
  Holly McGuire\, Patrick Davis\, Sean Harris and Margaret Murphy-Webb.\n\n
 Songs from the world of Langston Hughes\, musical theatre\, R&amp\;B\, Lat
 in America and more.\n\n\n\n&nbsp\;\n\n\n\nSuggested donation for the 4-pa
 rt series: $100 or more for patrons\, $60 per family\, $40 for VIP\, $25 f
 or general admission\, and $5 for students.  No donation is too small nor
  too big. Be sure to Register at blackvoicesincabaret.org/rsvp to receive 
 your link to the livestream. Registration opens on February 15th.\n\nCall 
 773.509.9360 for more information.\n\n&nbsp\;
ATTACH;FMTTYPE=image/jpeg:https://workinginconcert.org/wp-content/uploads/
 2020/11/Cropped-In-Loving-Memory_Cliff-Joseph-Mailing-1.jpg
CATEGORIES:Black Voices in Cabaret,Virtual Events
END:VEVENT
BEGIN:VTIMEZONE
TZID:America/Chicago
X-LIC-LOCATION:America/Chicago
BEGIN:DAYLIGHT
DTSTART:20210314T030000
TZOFFSETFROM:-0600
TZOFFSETTO:-0500
TZNAME:CDT
END:DAYLIGHT
END:VTIMEZONE
END:VCALENDAR