BEGIN:VCALENDAR
VERSION:2.0
PRODID:-//wp-events-plugin.com//7.2.3.1//EN
TZID:America/Chicago
X-WR-TIMEZONE:America/Chicago
BEGIN:VEVENT
UID:188@workinginconcert.org
DTSTART;TZID=America/Chicago:20230828T200000
DTEND;TZID=America/Chicago:20230828T220000
DTSTAMP:20230810T035242Z
URL:https://workinginconcert.org/events/in-the-footsteps-of-josephine-bake
 r-sur-les-traces-de-josephine-baker/
SUMMARY:In the footsteps of Josephine Baker / Sur les traces de Joséphine 
 Baker
DESCRIPTION:\nSingers from Chicago\, Detroit\, Las Vegas\, Los Angeles and 
 Paris perform in this musical tribute to Josephine Baker in her home regio
 n of Dordogne. Hosted by Michèle Barbier\, Baker's former secretary.\n\n\
 n\nStefan Kukurugya at the piano. Our host Michèle Barbier\, with singers
  Sue Berke\, Jeanie Carroll\, Jeanne Franks\, Suzanna Griffith\, Claudia H
 ommel\, Ava Logan\,  and Barbara Smith\,  \n\n\n\nThis is a free event. Do
 nations are welcome at the door.\n\n\n\nRSVP Here\n
ATTACH;FMTTYPE=image/jpeg:https://workinginconcert.org/wp-content/uploads/
 2023/07/dordogne2-scaled.jpg
CATEGORIES:Cabaret Connexion,Claudia's Cabaret-Paree,Working In Concert
 concerts
LOCATION:Galerie Odéhon\, 43 rue Gambetta\, Saint-Cyprien \, (Périgord)\,
  France
X-APPLE-STRUCTURED-LOCATION;VALUE=URI;X-ADDRESS=43 rue Gambetta\, Saint-Cyp
 rien \, (Périgord)\, France;X-APPLE-RADIUS=100;X-TITLE=Galerie Odéhon:ge
 o:0,0
END:VEVENT
BEGIN:VTIMEZONE
TZID:America/Chicago
X-LIC-LOCATION:America/Chicago
BEGIN:DAYLIGHT
DTSTART:20230312T030000
TZOFFSETFROM:-0600
TZOFFSETTO:-0500
TZNAME:CDT
END:DAYLIGHT
END:VTIMEZONE
END:VCALENDAR