BEGIN:VCALENDAR
VERSION:2.0
PRODID:-//wp-events-plugin.com//7.2.3.1//EN
TZID:America/Chicago
X-WR-TIMEZONE:America/Chicago
BEGIN:VEVENT
UID:285@workinginconcert.org
DTSTART;TZID=America/Chicago:20260606T180000
DTEND;TZID=America/Chicago:20260606T193000
DTSTAMP:20260417T175901Z
URL:https://workinginconcert.org/events/june-6-concert-new-songs-and-old/
SUMMARY:June 6\, SongShop Live - New Songs and Old
DESCRIPTION:\nFor the duration of the concert\, you’ll discover and redis
 cover original and old beautiful songs interpreted by the SongShop partici
 pants. Gabriel Valentino \,Vickie Graff and Sue Susman will also present t
 heir own songs!The show will be hosted by their marvelous vocal coach: Cla
 udia Hommel!\n\n\n\nThe cherry on the cake? The concert takes place in a b
 eautiful Hyde Park garden. What better way to celebrate the arrival of sum
 mer!\n\n\n\nGet your tickets on the  following link ! \n\n\n\n\n
ATTACH;FMTTYPE=image/jpeg:https://workinginconcert.org/wp-content/uploads/
 2026/04/quartet2June.jpg
CATEGORIES:SongShop,Working In Concert concerts
LOCATION:Vista homes garden\, 5844 S. Stony Island Avenue\, Chicago\, Illin
 ois\, 60637\, United States
X-APPLE-STRUCTURED-LOCATION;VALUE=URI;X-ADDRESS=5844 S. Stony Island Avenue
 \, Chicago\, Illinois\, 60637\, United States;X-APPLE-RADIUS=100;X-TITLE=V
 ista homes garden:geo:0,0
END:VEVENT
BEGIN:VTIMEZONE
TZID:America/Chicago
X-LIC-LOCATION:America/Chicago
BEGIN:DAYLIGHT
DTSTART:20260308T030000
TZOFFSETFROM:-0600
TZOFFSETTO:-0500
TZNAME:CDT
END:DAYLIGHT
END:VTIMEZONE
END:VCALENDAR