BEGIN:VCALENDAR
VERSION:2.0
PRODID:-//wp-events-plugin.com//7.2.3.1//EN
TZID:America/Chicago
X-WR-TIMEZONE:America/Chicago
BEGIN:VEVENT
UID:203@workinginconcert.org
DTSTART;TZID=America/Chicago:20240720T190000
DTEND;TZID=America/Chicago:20240721T210000
DTSTAMP:20250210T175216Z
URL:https://workinginconcert.org/events/making-a-scene-with-american-opera
 /
SUMMARY:An operatic double-header
DESCRIPTION:\nSave the date for “Speed Dating” and get ringside seats f
 or “Outside the Ring” as Bellissima Opera brings us a double bill of t
 he often poignant\, sometimes outrageous\, and always spectacular sports o
 f dating and boxing. Speed Dating Tonight!\, libretto and music by Michae
 l Ching paired with excerpts from the new opera Outside the Ring by libret
 tist Christine Steyer and composer David Shenton from their award-winning 
 Transcendence Series.\n\n\n\nClick here for tickets\n\n\n\n\n
ATTACH;FMTTYPE=image/jpeg:https://workinginconcert.org/wp-content/uploads/
 2024/03/Screenshot-2024-03-21-at-3.06.42 PM.png
CATEGORIES:Bellissima Opera,Working In Concert concerts
LOCATION:Concordia University\, Kretzmann Hall\, 7400 Augusta Street\, Rive
 r Forest\, IL\, United States
X-APPLE-STRUCTURED-LOCATION;VALUE=URI;X-ADDRESS=Kretzmann Hall\, 7400 Augus
 ta Street\, River Forest\, IL\, United States;X-APPLE-RADIUS=100;X-TITLE=C
 oncordia University:geo:0,0
END:VEVENT
BEGIN:VTIMEZONE
TZID:America/Chicago
X-LIC-LOCATION:America/Chicago
BEGIN:DAYLIGHT
DTSTART:20240310T030000
TZOFFSETFROM:-0600
TZOFFSETTO:-0500
TZNAME:CDT
END:DAYLIGHT
END:VTIMEZONE
END:VCALENDAR