BEGIN:VCALENDAR
VERSION:2.0
PRODID:-//wp-events-plugin.com//7.2.3.1//EN
TZID:America/Chicago
X-WR-TIMEZONE:America/Chicago
BEGIN:VEVENT
UID:279@workinginconcert.org
DTSTART;TZID=America/Chicago:20260311T180000
DTEND;TZID=America/Chicago:20260311T180000
DTSTAMP:20260302T211304Z
URL:https://workinginconcert.org/events/masterclass-with-steve-normandin/
SUMMARY:MasterClass with Steve Normandin
DESCRIPTION:\nA masterclass with the one and only Steve NormandinWEDNESDAY
 \, MARCH 11\, 6:00 pm - change of dateAlbany Park\, Chicago\n\n\n\nOur col
 league from the&nbsp\;Chicago Paris Cabaret Connexion&nbsp\;comes to us di
 rectly from Québec City. He'll be joined by Howie Pfeifer at the piano.&n
 bsp\;\n\n\n\nSteve will conduct the session in&nbsp\;English. \n\n\n\nHe w
 rites:&nbsp\;I offer a&nbsp\;song interpretation&nbsp\;workshop that foste
 rs the development of participants' skills in conveying the&nbsp\;emotions
 &nbsp\;and&nbsp\;meaning&nbsp\;of&nbsp\;song&nbsp\;lyrics. We will explore
 &nbsp\;stage presence\,&nbsp\;physical&nbsp\;expression\, the&nbsp\;musica
 lity of words\, and their primary meaning. The workshop takes place in a f
 riendly and inclusive atmosphere suitable for&nbsp\;all levels. It's an id
 eal opportunity to&nbsp\;deepen&nbsp\;one's connection with&nbsp\;song&nbs
 p\;while building&nbsp\;confidence&nbsp\;on stage.\n\n\n\nCost: $60&nbsp\;
 Maximum of 10 singers\;&nbsp\;Auditors welcome ($30)Financial aid is avail
 able on request\n\n\n\n\n\n\n\n\n
ATTACH;FMTTYPE=image/jpeg:https://workinginconcert.org/wp-content/uploads/
 2024/07/Steve-Normandin.jpg
CATEGORIES:Working In Concert concerts
END:VEVENT
BEGIN:VTIMEZONE
TZID:America/Chicago
X-LIC-LOCATION:America/Chicago
BEGIN:DAYLIGHT
DTSTART:20260308T030000
TZOFFSETFROM:-0600
TZOFFSETTO:-0500
TZNAME:CDT
END:DAYLIGHT
END:VTIMEZONE
END:VCALENDAR