BEGIN:VCALENDAR
VERSION:2.0
PRODID:-//wp-events-plugin.com//7.2.3.1//EN
TZID:America/Chicago
X-WR-TIMEZONE:America/Chicago
BEGIN:VEVENT
UID:284@workinginconcert.org
DTSTART;TZID=America/Chicago:20260531T160000
DTEND;TZID=America/Chicago:20260531T173000
DTSTAMP:20260417T175833Z
URL:https://workinginconcert.org/events/may-31-songshop-concert-healing-wi
 th-love/
SUMMARY:May 31\, SongShop Live - Healing with love
DESCRIPTION:\nOn Sunday May 31\, the Labyrinth Club will host a concert cre
 ated by the SongShop participants and their marvelous vocal coach and the 
 emcee of the show: Claudia Hommel! Featuring: Beth Halevy\, Dion Walton\, 
 R. Darryl Thomas\, Elisabeth Howard\, Sharon Waltham. Music director and p
 ianist: Howie Pfeifer \n\n\n\nFor the duration of the concert\, you’ll b
 e enveloped in a wave of love that will heal all your troubles. \n\n\n\nGe
 t your tickets on the  following link ! \n\n\n\n\n
ATTACH;FMTTYPE=image/jpeg:https://workinginconcert.org/wp-content/uploads/
 2026/04/quartet2May.jpg
CATEGORIES:SongShop,Working In Concert concerts
LOCATION:Labyrinth Club\, 3658 N Pulaski Rd\, Chicago\, IL\, 60641\, United
  States
X-APPLE-STRUCTURED-LOCATION;VALUE=URI;X-ADDRESS=3658 N Pulaski Rd\, Chicago
 \, IL\, 60641\, United States;X-APPLE-RADIUS=100;X-TITLE=Labyrinth Club:ge
 o:0,0
END:VEVENT
BEGIN:VTIMEZONE
TZID:America/Chicago
X-LIC-LOCATION:America/Chicago
BEGIN:DAYLIGHT
DTSTART:20260308T030000
TZOFFSETFROM:-0600
TZOFFSETTO:-0500
TZNAME:CDT
END:DAYLIGHT
END:VTIMEZONE
END:VCALENDAR