BEGIN:VCALENDAR
VERSION:2.0
PRODID:-//wp-events-plugin.com//7.2.3.1//EN
TZID:America/Chicago
X-WR-TIMEZONE:America/Chicago
BEGIN:VEVENT
UID:49@workinginconcert.org
DTSTART;TZID=America/Chicago:20201222T193000
DTEND;TZID=America/Chicago:20201222T201500
DTSTAMP:20221020T175012Z
URL:https://workinginconcert.org/events/merry-mini-christmas-concert-from-
 paris-and-chicago-2/
SUMMARY:Merry Mini-Christmas Concert from Paris and Chicago
DESCRIPTION:Soprano Christine Steyer and singer-pianist Jean-Claude Orfali\
 n\nGuests: Paul Geiger and Huckleberry (as Rudolph the Reindeer)\n\nA live
 stream concert. Free admission. Register at this Zoom link for the second 
 showing! Donations to the "tip jar" are most welcome.\n\n&nbsp\;
CATEGORIES:Bellissima Opera
END:VEVENT
BEGIN:VTIMEZONE
TZID:America/Chicago
X-LIC-LOCATION:America/Chicago
BEGIN:STANDARD
DTSTART:20201101T010000
TZOFFSETFROM:-0500
TZOFFSETTO:-0600
TZNAME:CST
END:STANDARD
END:VTIMEZONE
END:VCALENDAR