BEGIN:VCALENDAR
VERSION:2.0
PRODID:-//wp-events-plugin.com//7.2.3.1//EN
TZID:America/Chicago
X-WR-TIMEZONE:America/Chicago
BEGIN:VEVENT
UID:283@workinginconcert.org
DTSTART;TZID=America/Chicago:20260426T190000
DTEND;TZID=America/Chicago:20260426T210000
DTSTAMP:20260416T203903Z
URL:https://workinginconcert.org/events/pianovache/
SUMMARY:Concert et scène ouverte au Piano Vache à Paris
DESCRIPTION:\nLe dimanche 26 avril prochain\, nous organisons un concert as
 socié à la Cabaret Connexion.\n\n\n\nEn cet honneur\, nos artistes chica
 goens\, Susan Arjmand et David Reithoffer\, performeront\, et vous aurez t
 out simplement envie de repartir avec eux à Chicago en novembre!\n\n\n\n7
  chanteurs performeront et la scène sera également ouverte pour tous les
  chanteurs en herbe qui le souhaitent. \n\n\n\nSi vous êtes prêts à vib
 rer sur la musique\, rendez-vous le 26 avril à 19h au Piano Vache. Aucune
  réservation n'est nécessaire et le prix est libre.\n\n\n\n\n
ATTACH;FMTTYPE=image/jpeg:https://workinginconcert.org/wp-content/uploads/
 2026/04/Concert-26-avril-2026-Cabaret-Connexion-scaled.jpg
CATEGORIES:Associated Artist,Cabaret Connexion,Working In Concert concerts
LOCATION:Le Piano Vache\, 8 Rue Laplace\, Paris\, France\, 75005\, France
X-APPLE-STRUCTURED-LOCATION;VALUE=URI;X-ADDRESS=8 Rue Laplace\, Paris\, Fra
 nce\, 75005\, France;X-APPLE-RADIUS=100;X-TITLE=Le Piano Vache:geo:0,0
END:VEVENT
BEGIN:VTIMEZONE
TZID:America/Chicago
X-LIC-LOCATION:America/Chicago
BEGIN:DAYLIGHT
DTSTART:20260308T030000
TZOFFSETFROM:-0600
TZOFFSETTO:-0500
TZNAME:CDT
END:DAYLIGHT
END:VTIMEZONE
END:VCALENDAR