BEGIN:VCALENDAR
VERSION:2.0
PRODID:-//wp-events-plugin.com//7.2.3.1//EN
TZID:America/Chicago
X-WR-TIMEZONE:America/Chicago
BEGIN:VEVENT
UID:250@workinginconcert.org
DTSTART;TZID=America/Chicago:20250824T160000
DTEND;TZID=America/Chicago:20250824T180000
DTSTAMP:20250825T185339Z
URL:https://workinginconcert.org/events/popera/
SUMMARY:Popera Pairings - a River Forest garden concert
DESCRIPTION:\nIn this friend-raiser we challenge ourselves to bridge the ga
 p from classical to contemporary\, and match up themes that have touched o
 ur lives. We'll have songs from Puccini to Porter\, Gounod to Gershwin\, M
 ozart to the Music Man.&nbsp\;\n\n\n\nWith Susan Dennis\, Sheri Flanders\,
  Kenneth Fobs\, Claudia Hommel\, Rosalind Horowitz\, Alison Issen\, Staci 
 Kelley\, Kelci Kosin\, Lauren Lassen\, Zoé Soteres\, Christine Steyer and
  Lauren Sutherland are on hand to pair songs from opera to popular. David 
 Kellen at the keyboard!\n\n\n\nProceeds to benefit Working In Concert init
 iatives Black Voices in Cabaret\, Chicago Paris Cabaret Connexion\, SongSh
 op Live\, Bellissima Opera\, and more\n\n\n\n\n\n\n\nL to R: Lauren Suther
 land\, Sheri Flanders\, Rosalind Horowitz\, Randolph Johnson\, Kelci Kosin
 \, Kenneth Fobs\, Lauren Lassen\, Carl Ratner\, Susan Dennis\, Alison Isse
 n\, Staci Kelley\, Christine Steyer\, Claudia Hommel\, David Kellen and Je
 nnifer McCabe!\n
ATTACH;FMTTYPE=image/jpeg:https://workinginconcert.org/wp-content/uploads/
 2025/05/popera2-scaled.jpg
CATEGORIES:Associate artist of Black Voices in Cabaret,Associated
 Artist,Bellissima Opera,Cabaret Connexion,SongShop,SongShop
 Related,Working In Concert concerts
END:VEVENT
BEGIN:VTIMEZONE
TZID:America/Chicago
X-LIC-LOCATION:America/Chicago
BEGIN:DAYLIGHT
DTSTART:20250309T030000
TZOFFSETFROM:-0600
TZOFFSETTO:-0500
TZNAME:CDT
END:DAYLIGHT
END:VTIMEZONE
END:VCALENDAR