BEGIN:VCALENDAR
VERSION:2.0
PRODID:-//wp-events-plugin.com//7.2.3.1//EN
TZID:America/Chicago
X-WR-TIMEZONE:America/Chicago
BEGIN:VEVENT
UID:248@workinginconcert.org
DTSTART;TZID=America/Chicago:20250629T160000
DTEND;TZID=America/Chicago:20250629T160000
DTSTAMP:20250530T195902Z
URL:https://workinginconcert.org/events/road-trip/
SUMMARY:Road Trip: An Albany Park Garden Concert
DESCRIPTION:\nWorking In Concert presents an Albany Park Garden Concert: Ro
 ad Trip\n\n\n\n\nRESERVE NOW!\n\n\n\n\nIn this concert\, we traverse North
  America to bring you musical postcards from our journey With Helene Alter
 -Dyche\, Christian Halvorsen\, Rae-Myra Hilliard\, David Hoffman\, Claudia
  Hommel\, Alison Issen\, Cappy Kidd\, Holly McGuire\, Corey Palmer\, Robin
  Simon\, Barbara Smith\, and Zoé Sotores. Musical director Howie Pfeifer 
 at the keys.\n\n\n\nYour donations (suggested in the range of $15 to$50) s
 upport Working In Concert’s initiatives Black Voices in Cabaret\, the Ch
 icago Paris Cabaret Connexion\, the SongShop scholarship fund and more.\n\
 n\n\n\n
ATTACH;FMTTYPE=image/jpeg:https://workinginconcert.org/wp-content/uploads/
 2025/05/RoadTrip-scaled.jpg
CATEGORIES:Associate artist of Black Voices in Cabaret,Associated
 Artist,Cabaret Connexion,SongShop Related,Working In Concert concerts
END:VEVENT
BEGIN:VTIMEZONE
TZID:America/Chicago
X-LIC-LOCATION:America/Chicago
BEGIN:DAYLIGHT
DTSTART:20250309T030000
TZOFFSETFROM:-0600
TZOFFSETTO:-0500
TZNAME:CDT
END:DAYLIGHT
END:VTIMEZONE
END:VCALENDAR