BEGIN:VCALENDAR
VERSION:2.0
PRODID:-//wp-events-plugin.com//7.2.3.1//EN
TZID:America/Chicago
X-WR-TIMEZONE:America/Chicago
BEGIN:VEVENT
UID:233@workinginconcert.org
DTSTART;TZID=America/Chicago:20241215T170000
DTEND;TZID=America/Chicago:20241215T190000
DTSTAMP:20241213T233423Z
URL:https://workinginconcert.org/events/tyson/
SUMMARY:Patricia Tyson: Her Story\, Her Songs
DESCRIPTION:\n\n\n\n\nPatricia E. Tyson is a Chicago native\, a registered 
 nurse with a strong background in hospice and palliative care. Her life’
 s passion\, however\, is music. Patricia is a composer\, choral director a
 nd a classically trained vocalist and concert pianist. She has composed ov
 er 500 hymns\, choral works\, and songs of inspiration. Patricia’s inten
 tion is to inspire and encourage the singers and listeners\, to affect a c
 hange for positivity and to consider a more excellent way of living\, doin
 g\, and being. &nbsp\;Patricia is an active member of Black Voices In Caba
 ret\n\n\n\n\n
ATTACH;FMTTYPE=image/jpeg:https://workinginconcert.org/wp-content/uploads/
 2024/12/Patricia-Tyson.jpg
CATEGORIES:Associate artist of Black Voices in Cabaret
LOCATION:Epiphany Center for the Arts\, 201 S. Ashland Ave\, Chicago\, IL\,
  60607\, United States
X-APPLE-STRUCTURED-LOCATION;VALUE=URI;X-ADDRESS=201 S. Ashland Ave\, Chicag
 o\, IL\, 60607\, United States;X-APPLE-RADIUS=100;X-TITLE=Epiphany Center 
 for the Arts:geo:0,0
END:VEVENT
BEGIN:VTIMEZONE
TZID:America/Chicago
X-LIC-LOCATION:America/Chicago
BEGIN:STANDARD
DTSTART:20241103T010000
TZOFFSETFROM:-0500
TZOFFSETTO:-0600
TZNAME:CST
END:STANDARD
END:VTIMEZONE
END:VCALENDAR