BEGIN:VCALENDAR
VERSION:2.0
PRODID:-//wp-events-plugin.com//7.2.3.1//EN
TZID:America/Chicago
X-WR-TIMEZONE:America/Chicago
BEGIN:VEVENT
UID:286@workinginconcert.org
DTSTART;TZID=America/Chicago:20260423T180000
DTEND;TZID=America/Chicago:20260423T210000
DTSTAMP:20260420T211316Z
URL:https://workinginconcert.org/events/vibes-verses-an-open-mic-night/
SUMMARY:Vibes &amp\; Verses: An Open Mic Night
DESCRIPTION:\nPresented by MuSAC — Musika SamaSama Artists Collective\n\n
 \n\nCelebrate World Art Day\, National Poetry Month\, and International Ja
 zz Day all in one night.&nbsp\;Vibes &amp\; Verses&nbsp\;is an open mic wh
 ere singers\, poets\, comics\, storytellers\, and musicians take the stage
  — and every voice has a place.\n\n\n\nWhether you're stepping up to the
  mic or soaking in the energy\, expect raw talent\, good vibes\, and unfor
 gettable moments.\n\n\n\n6–7PM&nbsp\;| Karaoke Happy Hour&nbsp\;(walk-in
 s welcome!)&nbsp\;7–9PM&nbsp\;| Open Mic Showcase&nbsp\;(sign-up require
 d)\n\n\n\n&#x1f3a4\; Ready to perform?&nbsp\;Sign up here →&nbsp\;http:/
 /bit.ly/SAMAopenmic\n\n\n\nBring your voice\, your words\, your instrument
  — or just your love for the arts. Let's make something beautiful togeth
 er.\n\n\n\nMuSAC is a growing artist community built on collaboration\, me
 ntorship\, performance opportunities\, and creative partnership among trus
 ted allies.\n
ATTACH;FMTTYPE=image/jpeg:https://workinginconcert.org/wp-content/uploads/
 2026/04/260423-Vibes-and-Verses-Open-Mic-Nght-at-Cebu-Chicago-IG-post.jpg
CATEGORIES:Associate artist of Black Voices in Cabaret,Associated
 Artist,Working In Concert concerts
LOCATION:Cebu Chicago\, 3120 N Lincoln Ave\, Chicago\, Illinois\, 60657\, U
 nited States
X-APPLE-STRUCTURED-LOCATION;VALUE=URI;X-ADDRESS=3120 N Lincoln Ave\, Chicag
 o\, Illinois\, 60657\, United States;X-APPLE-RADIUS=100;X-TITLE=Cebu Chica
 go:geo:0,0
END:VEVENT
BEGIN:VTIMEZONE
TZID:America/Chicago
X-LIC-LOCATION:America/Chicago
BEGIN:DAYLIGHT
DTSTART:20260308T030000
TZOFFSETFROM:-0600
TZOFFSETTO:-0500
TZNAME:CDT
END:DAYLIGHT
END:VTIMEZONE
END:VCALENDAR